BEGIN:VCALENDAR
VERSION:2.0
PRODID:-//NoseworkGames - ECPv6.15.20//NONSGML v1.0//EN
CALSCALE:GREGORIAN
METHOD:PUBLISH
X-ORIGINAL-URL:https://noseworkgames.org
X-WR-CALDESC:Events for NoseworkGames
REFRESH-INTERVAL;VALUE=DURATION:PT1H
X-Robots-Tag:noindex
X-PUBLISHED-TTL:PT1H
BEGIN:VTIMEZONE
TZID:Europe/London
BEGIN:DAYLIGHT
TZOFFSETFROM:+0000
TZOFFSETTO:+0100
TZNAME:BST
DTSTART:20250330T010000
END:DAYLIGHT
BEGIN:STANDARD
TZOFFSETFROM:+0100
TZOFFSETTO:+0000
TZNAME:GMT
DTSTART:20251026T010000
END:STANDARD
BEGIN:DAYLIGHT
TZOFFSETFROM:+0000
TZOFFSETTO:+0100
TZNAME:BST
DTSTART:20260329T010000
END:DAYLIGHT
BEGIN:STANDARD
TZOFFSETFROM:+0100
TZOFFSETTO:+0000
TZNAME:GMT
DTSTART:20261025T010000
END:STANDARD
BEGIN:DAYLIGHT
TZOFFSETFROM:+0000
TZOFFSETTO:+0100
TZNAME:BST
DTSTART:20270328T010000
END:DAYLIGHT
BEGIN:STANDARD
TZOFFSETFROM:+0100
TZOFFSETTO:+0000
TZNAME:GMT
DTSTART:20271031T010000
END:STANDARD
END:VTIMEZONE
BEGIN:VEVENT
DTSTART;VALUE=DATE:20260424
DTEND;VALUE=DATE:20260425
DTSTAMP:20260423T154720
CREATED:20260301T163804Z
LAST-MODIFIED:20260301T163858Z
UID:11641-1776988800-1777075199@noseworkgames.org
SUMMARY:Level 3 & Level 6 TN21 9DB
DESCRIPTION:Level 3 https://CalmandContentDogs.as.me/?appointmentType=89348949 \nLevel 6 https://CalmandContentDogs.as.me/?appointmentType=89348928 \nGun Oil
URL:https://noseworkgames.org/event/level-3-level-6/
LOCATION:Punnetts Town\, TN21 9DB
END:VEVENT
BEGIN:VEVENT
DTSTART;VALUE=DATE:20260426
DTEND;VALUE=DATE:20260427
DTSTAMP:20260423T154720
CREATED:20260412T184501Z
LAST-MODIFIED:20260412T184501Z
UID:12001-1777161600-1777247999@noseworkgames.org
SUMMARY:Level 1 KT20 7JS
DESCRIPTION:Clove
URL:https://noseworkgames.org/event/level-1-kt20-7js/
LOCATION:Boxhill Village Hall\, KT20 7JT
END:VEVENT
BEGIN:VEVENT
DTSTART;VALUE=DATE:20260430
DTEND;VALUE=DATE:20260501
DTSTAMP:20260423T154720
CREATED:20260104T090819Z
LAST-MODIFIED:20260104T090819Z
UID:11209-1777507200-1777593599@noseworkgames.org
SUMMARY:Level 3 GL10 3LP
DESCRIPTION:forpawsdogtraining@gmail.com
URL:https://noseworkgames.org/event/level-3-gl10-3lp/
LOCATION:Leonard Stanley Village Hall\, GL10 3LP
ORGANIZER;CN="For Paws Dog training":MAILTO:forpawsdogtraining@gmail.com
END:VEVENT
END:VCALENDAR