BEGIN:VCALENDAR
VERSION:2.0
PRODID:-//NoseworkGames - ECPv6.15.20//NONSGML v1.0//EN
CALSCALE:GREGORIAN
METHOD:PUBLISH
X-WR-CALNAME:NoseworkGames
X-ORIGINAL-URL:https://noseworkgames.org
X-WR-CALDESC:Events for NoseworkGames
REFRESH-INTERVAL;VALUE=DURATION:PT1H
X-Robots-Tag:noindex
X-PUBLISHED-TTL:PT1H
BEGIN:VTIMEZONE
TZID:Europe/London
BEGIN:DAYLIGHT
TZOFFSETFROM:+0000
TZOFFSETTO:+0100
TZNAME:BST
DTSTART:20250330T010000
END:DAYLIGHT
BEGIN:STANDARD
TZOFFSETFROM:+0100
TZOFFSETTO:+0000
TZNAME:GMT
DTSTART:20251026T010000
END:STANDARD
BEGIN:DAYLIGHT
TZOFFSETFROM:+0000
TZOFFSETTO:+0100
TZNAME:BST
DTSTART:20260329T010000
END:DAYLIGHT
BEGIN:STANDARD
TZOFFSETFROM:+0100
TZOFFSETTO:+0000
TZNAME:GMT
DTSTART:20261025T010000
END:STANDARD
BEGIN:DAYLIGHT
TZOFFSETFROM:+0000
TZOFFSETTO:+0100
TZNAME:BST
DTSTART:20270328T010000
END:DAYLIGHT
BEGIN:STANDARD
TZOFFSETFROM:+0100
TZOFFSETTO:+0000
TZNAME:GMT
DTSTART:20271031T010000
END:STANDARD
END:VTIMEZONE
BEGIN:VEVENT
DTSTART;VALUE=DATE:20260502
DTEND;VALUE=DATE:20260503
DTSTAMP:20260423T172314
CREATED:20260311T200827Z
LAST-MODIFIED:20260311T200841Z
UID:11766-1777680000-1777766399@noseworkgames.org
SUMMARY:Level 3 SY23 3LS
DESCRIPTION:Gun Oil
URL:https://noseworkgames.org/event/level-3-sy23-3ls/
LOCATION:Capel Bangor Village Hall\, SY23 3LS
END:VEVENT
BEGIN:VEVENT
DTSTART;VALUE=DATE:20260504
DTEND;VALUE=DATE:20260505
DTSTAMP:20260423T172314
CREATED:20260403T205145Z
LAST-MODIFIED:20260403T205227Z
UID:11922-1777852800-1777939199@noseworkgames.org
SUMMARY:Level 2 & Level 5 OX7 5RE
DESCRIPTION:Gun Oil
URL:https://noseworkgames.org/event/level-2-level-5/
LOCATION:Hand House\, Great Rollright\, Chippiong Norton\, OX7 5RE
END:VEVENT
BEGIN:VEVENT
DTSTART;VALUE=DATE:20260508
DTEND;VALUE=DATE:20260509
DTSTAMP:20260423T172314
CREATED:20260412T184307Z
LAST-MODIFIED:20260412T184307Z
UID:11998-1778198400-1778284799@noseworkgames.org
SUMMARY:Level 2 & Level 4 TN21 9DB
DESCRIPTION:Gun Oil \nhttps://calmandcontentdogs.as.me/?appointmentType=91518937 \nhttps://calmandcontentdogs.as.me/?appointmentType=91519252
URL:https://noseworkgames.org/event/level-2-level-4-tn21-9db/
LOCATION:Punnetts Town\, TN21 9DB
END:VEVENT
BEGIN:VEVENT
DTSTART;VALUE=DATE:20260516
DTEND;VALUE=DATE:20260517
DTSTAMP:20260423T172314
CREATED:20260218T083203Z
LAST-MODIFIED:20260218T083203Z
UID:11592-1778889600-1778975999@noseworkgames.org
SUMMARY:Level 2 ST7 1AQ
DESCRIPTION:Gun Oil
URL:https://noseworkgames.org/event/level-2-st7-1aq-2/
LOCATION:Kidsgrove Scouts\, ST7 1AQ
END:VEVENT
BEGIN:VEVENT
DTSTART;VALUE=DATE:20260524
DTEND;VALUE=DATE:20260525
DTSTAMP:20260423T172314
CREATED:20260215T201839Z
LAST-MODIFIED:20260215T201839Z
UID:11570-1779580800-1779667199@noseworkgames.org
SUMMARY:RH1 4EJ Level TBC
DESCRIPTION:Gun Oil
URL:https://noseworkgames.org/event/rh1-4ej-level-tbc-2/
END:VEVENT
BEGIN:VEVENT
DTSTART;TZID=Europe/London:20260524T080000
DTEND;TZID=Europe/London:20260524T170000
DTSTAMP:20260423T172314
CREATED:20260118T083945Z
LAST-MODIFIED:20260118T083945Z
UID:11303-1779609600-1779642000@noseworkgames.org
SUMMARY:CM8 3YU Level 1 Level 2
DESCRIPTION:Gun Oil
URL:https://noseworkgames.org/event/cm8-3yu-level-1-level-2/
END:VEVENT
BEGIN:VEVENT
DTSTART;VALUE=DATE:20260526
DTEND;VALUE=DATE:20260527
DTSTAMP:20260423T172314
CREATED:20260113T163625Z
LAST-MODIFIED:20260113T163625Z
UID:11273-1779753600-1779839999@noseworkgames.org
SUMMARY:WS8 6ER Level 3
DESCRIPTION:Cloves
URL:https://noseworkgames.org/event/ws8-6er-level-3-3/
LOCATION:Brownhills Methodist Church\, Silver Street\, Brownhills\, WS8 6ER
END:VEVENT
BEGIN:VEVENT
DTSTART;VALUE=DATE:20260527
DTEND;VALUE=DATE:20260528
DTSTAMP:20260423T172314
CREATED:20260319T195533Z
LAST-MODIFIED:20260319T195533Z
UID:11789-1779840000-1779926399@noseworkgames.org
SUMMARY:Level 1 IP24 1LZ
DESCRIPTION:Gun Oil
URL:https://noseworkgames.org/event/level-1-ip24-1lz/
LOCATION:Thetford rugby Club\, IP24 1LZ
END:VEVENT
BEGIN:VEVENT
DTSTART;TZID=Europe/London:20260528T080000
DTEND;TZID=Europe/London:20260528T170000
DTSTAMP:20260423T172314
CREATED:20260104T091057Z
LAST-MODIFIED:20260104T091057Z
UID:11211-1779955200-1779987600@noseworkgames.org
SUMMARY:Level 4 GL10 3LP
DESCRIPTION:forpawsdogtraining@gmail.com
URL:https://noseworkgames.org/event/level-4-gl10-3lp-2/
LOCATION:Leonard Stanley Village Hall\, GL10 3LP
ORGANIZER;CN="For Paws Dog training":MAILTO:forpawsdogtraining@gmail.com
END:VEVENT
BEGIN:VEVENT
DTSTART;VALUE=DATE:20260529
DTEND;VALUE=DATE:20260530
DTSTAMP:20260423T172314
CREATED:20260402T074012Z
LAST-MODIFIED:20260402T074012Z
UID:11863-1780012800-1780099199@noseworkgames.org
SUMMARY:Level 1 MK44 2JJ
DESCRIPTION:Gun Oil
URL:https://noseworkgames.org/event/level-1-mk44-2jj-2/
LOCATION:The fox\, MK44 2JJ
END:VEVENT
BEGIN:VEVENT
DTSTART;VALUE=DATE:20260530
DTEND;VALUE=DATE:20260531
DTSTAMP:20260423T172314
CREATED:20251027T064736Z
LAST-MODIFIED:20251027T064736Z
UID:10727-1780099200-1780185599@noseworkgames.org
SUMMARY:Level 1 CM14 5RE
DESCRIPTION:Gun Oil
URL:https://noseworkgames.org/event/level-1-cm14-5re-2/
LOCATION:DTCE\, CM14 5RE
END:VEVENT
END:VCALENDAR