BEGIN:VCALENDAR
VERSION:2.0
PRODID:-//NoseworkGames - ECPv6.15.20//NONSGML v1.0//EN
CALSCALE:GREGORIAN
METHOD:PUBLISH
X-WR-CALNAME:NoseworkGames
X-ORIGINAL-URL:https://noseworkgames.org
X-WR-CALDESC:Events for NoseworkGames
REFRESH-INTERVAL;VALUE=DURATION:PT1H
X-Robots-Tag:noindex
X-PUBLISHED-TTL:PT1H
BEGIN:VTIMEZONE
TZID:Europe/London
BEGIN:DAYLIGHT
TZOFFSETFROM:+0000
TZOFFSETTO:+0100
TZNAME:BST
DTSTART:20250330T010000
END:DAYLIGHT
BEGIN:STANDARD
TZOFFSETFROM:+0100
TZOFFSETTO:+0000
TZNAME:GMT
DTSTART:20251026T010000
END:STANDARD
BEGIN:DAYLIGHT
TZOFFSETFROM:+0000
TZOFFSETTO:+0100
TZNAME:BST
DTSTART:20260329T010000
END:DAYLIGHT
BEGIN:STANDARD
TZOFFSETFROM:+0100
TZOFFSETTO:+0000
TZNAME:GMT
DTSTART:20261025T010000
END:STANDARD
BEGIN:DAYLIGHT
TZOFFSETFROM:+0000
TZOFFSETTO:+0100
TZNAME:BST
DTSTART:20270328T010000
END:DAYLIGHT
BEGIN:STANDARD
TZOFFSETFROM:+0100
TZOFFSETTO:+0000
TZNAME:GMT
DTSTART:20271031T010000
END:STANDARD
END:VTIMEZONE
BEGIN:VEVENT
DTSTART;VALUE=DATE:20260726
DTEND;VALUE=DATE:20260727
DTSTAMP:20260424T003751
CREATED:20260215T202203Z
LAST-MODIFIED:20260215T202203Z
UID:11576-1785024000-1785110399@noseworkgames.org
SUMMARY:RH1 4EJ Lebel TBC
DESCRIPTION:Gun Oil
URL:https://noseworkgames.org/event/rh1-4ej-lebel-tbc/
END:VEVENT
BEGIN:VEVENT
DTSTART;VALUE=DATE:20260728
DTEND;VALUE=DATE:20260729
DTSTAMP:20260424T003751
CREATED:20260111T082151Z
LAST-MODIFIED:20260111T082151Z
UID:11249-1785196800-1785283199@noseworkgames.org
SUMMARY:WS8 6ER Level 5
DESCRIPTION:Cloves
URL:https://noseworkgames.org/event/ws8-6er-level-5-2/
LOCATION:Brownhills Methodist Church\, Silver Street\, Brownhills\, WS8 6ER
END:VEVENT
BEGIN:VEVENT
DTSTART;VALUE=DATE:20260823
DTEND;VALUE=DATE:20260824
DTSTAMP:20260424T003751
CREATED:20260215T202301Z
LAST-MODIFIED:20260215T202301Z
UID:11578-1787443200-1787529599@noseworkgames.org
SUMMARY:RH1 4EJ Level TBC
DESCRIPTION:Gun Oil
URL:https://noseworkgames.org/event/rh1-4ej-level-tbc-5/
END:VEVENT
BEGIN:VEVENT
DTSTART;VALUE=DATE:20260825
DTEND;VALUE=DATE:20260826
DTSTAMP:20260424T003751
CREATED:20260111T082337Z
LAST-MODIFIED:20260111T082337Z
UID:11251-1787616000-1787702399@noseworkgames.org
SUMMARY:WS8 6ER Level 3
DESCRIPTION:Clove/Gun oil
URL:https://noseworkgames.org/event/ws8-6er-level-3/
LOCATION:Brownhills Methodist Church\, Silver Street\, Brownhills\, WS8 6ER
END:VEVENT
BEGIN:VEVENT
DTSTART;VALUE=DATE:20260829
DTEND;VALUE=DATE:20260830
DTSTAMP:20260424T003751
CREATED:20251027T064605Z
LAST-MODIFIED:20251027T064605Z
UID:10723-1787961600-1788047999@noseworkgames.org
SUMMARY:Level 1 CM14 5RE
DESCRIPTION:Gun Oil
URL:https://noseworkgames.org/event/level-1-cm14-5re/
LOCATION:DTCE\, CM14 5RE
END:VEVENT
BEGIN:VEVENT
DTSTART;VALUE=DATE:20260927
DTEND;VALUE=DATE:20260928
DTSTAMP:20260424T003751
CREATED:20260215T202351Z
LAST-MODIFIED:20260215T202351Z
UID:11580-1790467200-1790553599@noseworkgames.org
SUMMARY:RH1 4EJ Level TBC
DESCRIPTION:Gun Oil
URL:https://noseworkgames.org/event/rh1-4ej-level-tbc-6/
END:VEVENT
BEGIN:VEVENT
DTSTART;VALUE=DATE:20260929
DTEND;VALUE=DATE:20260930
DTSTAMP:20260424T003751
CREATED:20260111T082500Z
LAST-MODIFIED:20260111T082500Z
UID:11253-1790640000-1790726399@noseworkgames.org
SUMMARY:WS8 6ER Level 2
DESCRIPTION:Clove/Gun Oil
URL:https://noseworkgames.org/event/ws8-6er-level-2-2/
LOCATION:Brownhills Methodist Church\, Silver Street\, Brownhills\, WS8 6ER
END:VEVENT
BEGIN:VEVENT
DTSTART;VALUE=DATE:20261013
DTEND;VALUE=DATE:20261014
DTSTAMP:20260424T003751
CREATED:20260111T082623Z
LAST-MODIFIED:20260111T082623Z
UID:11255-1791849600-1791935999@noseworkgames.org
SUMMARY:WS8 6ER Level 4
DESCRIPTION:Cloves/Gun Oil
URL:https://noseworkgames.org/event/ws8-6er-level-4-2/
LOCATION:Brownhills Methodist Church\, Silver Street\, Brownhills\, WS8 6ER
END:VEVENT
BEGIN:VEVENT
DTSTART;VALUE=DATE:20261025
DTEND;VALUE=DATE:20261026
DTSTAMP:20260424T003751
CREATED:20260215T202456Z
LAST-MODIFIED:20260215T202456Z
UID:11582-1792886400-1792972799@noseworkgames.org
SUMMARY:RH1 4EJ Level TBC
DESCRIPTION:Gun Oil
URL:https://noseworkgames.org/event/rh1-4ej-level-tbc-7/
END:VEVENT
BEGIN:VEVENT
DTSTART;VALUE=DATE:20261122
DTEND;VALUE=DATE:20261123
DTSTAMP:20260424T003751
CREATED:20260215T202750Z
LAST-MODIFIED:20260215T202750Z
UID:11584-1795305600-1795391999@noseworkgames.org
SUMMARY:RH1 4EJ Level TBC
DESCRIPTION:Gun Oil
URL:https://noseworkgames.org/event/rh1-4ej-level-tbc-8/
END:VEVENT
BEGIN:VEVENT
DTSTART;VALUE=DATE:20261124
DTEND;VALUE=DATE:20261125
DTSTAMP:20260424T003751
CREATED:20260111T082729Z
LAST-MODIFIED:20260111T082729Z
UID:11257-1795478400-1795564799@noseworkgames.org
SUMMARY:WS8 6ER Level 5
DESCRIPTION:Cloves/Gun Oil
URL:https://noseworkgames.org/event/ws8-6er-level-5-3/
LOCATION:Brownhills Methodist Church\, Silver Street\, Brownhills\, WS8 6ER
END:VEVENT
BEGIN:VEVENT
DTSTART;VALUE=DATE:20261208
DTEND;VALUE=DATE:20261209
DTSTAMP:20260424T003751
CREATED:20260111T082855Z
LAST-MODIFIED:20260111T082855Z
UID:11259-1796688000-1796774399@noseworkgames.org
SUMMARY:WS8 6ER Level 3
DESCRIPTION:Clove/Gun Oil
URL:https://noseworkgames.org/event/ws8-6er-level-3-2/
LOCATION:Brownhills Methodist Church\, Silver Street\, Brownhills\, WS8 6ER
END:VEVENT
BEGIN:VEVENT
DTSTART;VALUE=DATE:20261213
DTEND;VALUE=DATE:20261214
DTSTAMP:20260424T003751
CREATED:20260215T202843Z
LAST-MODIFIED:20260215T202843Z
UID:11586-1797120000-1797206399@noseworkgames.org
SUMMARY:RH1 4EJ Level TBC
DESCRIPTION:Gun Oil
URL:https://noseworkgames.org/event/rh1-4ej-level-tbc-9/
END:VEVENT
END:VCALENDAR