BEGIN:VCALENDAR
VERSION:2.0
PRODID:-//NoseworkGames - ECPv6.15.20//NONSGML v1.0//EN
CALSCALE:GREGORIAN
METHOD:PUBLISH
X-ORIGINAL-URL:https://noseworkgames.org
X-WR-CALDESC:Events for NoseworkGames
REFRESH-INTERVAL;VALUE=DURATION:PT1H
X-Robots-Tag:noindex
X-PUBLISHED-TTL:PT1H
BEGIN:VTIMEZONE
TZID:Europe/London
BEGIN:DAYLIGHT
TZOFFSETFROM:+0000
TZOFFSETTO:+0100
TZNAME:BST
DTSTART:20250330T010000
END:DAYLIGHT
BEGIN:STANDARD
TZOFFSETFROM:+0100
TZOFFSETTO:+0000
TZNAME:GMT
DTSTART:20251026T010000
END:STANDARD
BEGIN:DAYLIGHT
TZOFFSETFROM:+0000
TZOFFSETTO:+0100
TZNAME:BST
DTSTART:20260329T010000
END:DAYLIGHT
BEGIN:STANDARD
TZOFFSETFROM:+0100
TZOFFSETTO:+0000
TZNAME:GMT
DTSTART:20261025T010000
END:STANDARD
BEGIN:DAYLIGHT
TZOFFSETFROM:+0000
TZOFFSETTO:+0100
TZNAME:BST
DTSTART:20270328T010000
END:DAYLIGHT
BEGIN:STANDARD
TZOFFSETFROM:+0100
TZOFFSETTO:+0000
TZNAME:GMT
DTSTART:20271031T010000
END:STANDARD
END:VTIMEZONE
BEGIN:VEVENT
DTSTART;TZID=Europe/London:20260328T080000
DTEND;TZID=Europe/London:20260328T170000
DTSTAMP:20260423T185346
CREATED:20260215T203535Z
LAST-MODIFIED:20260215T203535Z
UID:11589-1774684800-1774717200@noseworkgames.org
SUMMARY:SY17 5NE Level 1 & Level 3
DESCRIPTION:Clove or Gun Oil TBC
URL:https://noseworkgames.org/event/sy17-5ne-level-1-level-3/
LOCATION:Puppy Plus Training Barn\, Newtown\, SY17 5NE
END:VEVENT
END:VCALENDAR